BEGIN:VCALENDAR
VERSION:2.0
PRODID:-//jEvents 2.0 for Joomla//EN
CALSCALE:GREGORIAN
METHOD:PUBLISH
BEGIN:VEVENT
UID:cc3929f745be8df688d79f3fa2ed5180
CATEGORIES:Schutzhütte
CREATED:20260412T110043
SUMMARY:priv Feier
DESCRIPTION:
DTSTAMP:20260426T042206
DTSTART:20260703T060000
DTEND:20260705T150000
SEQUENCE:0
TRANSP:OPAQUE
END:VEVENT
END:VCALENDAR