BEGIN:VCALENDAR
VERSION:2.0
PRODID:-//jEvents 2.0 for Joomla//EN
CALSCALE:GREGORIAN
METHOD:PUBLISH
BEGIN:VEVENT
UID:669b3525d594a5328fc843f22fccdaba
CATEGORIES:Gemeindehaus großer Saal
CREATED:20260412T104950
SUMMARY:Frauengemeinschaft
DESCRIPTION:
DTSTAMP:20260425T185715
DTSTART:20260416T060000
DTEND:20260416T150000
SEQUENCE:0
TRANSP:OPAQUE
END:VEVENT
END:VCALENDAR