BEGIN:VCALENDAR
VERSION:2.0
PRODID:-//jEvents 2.0 for Joomla//EN
CALSCALE:GREGORIAN
METHOD:PUBLISH
BEGIN:VEVENT
UID:fe25f100eb9394e395f8b3adff5de340
CATEGORIES:Schutzhütte
CREATED:20260412T104105
SUMMARY:priv Feier
DESCRIPTION:
DTSTAMP:20260425T232016
DTSTART:20260625T060000
DTEND:20260625T150000
SEQUENCE:0
TRANSP:OPAQUE
END:VEVENT
END:VCALENDAR