BEGIN:VCALENDAR
VERSION:2.0
PRODID:-//jEvents 2.0 for Joomla//EN
CALSCALE:GREGORIAN
METHOD:PUBLISH
BEGIN:VEVENT
UID:9893a245413e3188280a19f6054cd2cb
CATEGORIES:Schutzhütte
CREATED:20260412T103945
SUMMARY:Kita
DESCRIPTION:
DTSTAMP:20260425T185648
DTSTART:20260529T060000
DTEND:20260530T150000
SEQUENCE:0
TRANSP:OPAQUE
END:VEVENT
END:VCALENDAR