BEGIN:VCALENDAR
VERSION:2.0
PRODID:-//jEvents 2.0 for Joomla//EN
CALSCALE:GREGORIAN
METHOD:PUBLISH
BEGIN:VEVENT
UID:028856b4f2c5e77000768fe0eee1ed5e
CATEGORIES:Gemeindehaus großer Saal
CREATED:20260412T103835
SUMMARY:Schule
DESCRIPTION:
DTSTAMP:20260425T212837
DTSTART:20260506T060000
DTEND:20260506T150000
SEQUENCE:0
TRANSP:OPAQUE
END:VEVENT
END:VCALENDAR