BEGIN:VCALENDAR
VERSION:2.0
PRODID:-//jEvents 2.0 for Joomla//EN
CALSCALE:GREGORIAN
METHOD:PUBLISH
BEGIN:VEVENT
UID:59cc19c858f11f72546689e13848337f
CATEGORIES:Schutzhütte
CREATED:20260412T103653
SUMMARY:Kindergeb
DESCRIPTION:
DTSTAMP:20260425T185710
DTSTART:20260425T060000
DTEND:20260426T150000
SEQUENCE:0
TRANSP:OPAQUE
END:VEVENT
END:VCALENDAR