BEGIN:VCALENDAR
VERSION:2.0
PRODID:-//jEvents 2.0 for Joomla//EN
CALSCALE:GREGORIAN
METHOD:PUBLISH
BEGIN:VEVENT
UID:eeefc64f71fb420d7169542f08c07dbc
CATEGORIES:Schutzhütte
CREATED:20260406T181601
SUMMARY:priv Feier
DESCRIPTION:
DTSTAMP:20260426T042201
DTSTART:20260725T060000
DTEND:20260725T150000
SEQUENCE:0
TRANSP:OPAQUE
END:VEVENT
END:VCALENDAR