BEGIN:VCALENDAR
VERSION:2.0
PRODID:-//jEvents 2.0 for Joomla//EN
CALSCALE:GREGORIAN
METHOD:PUBLISH
BEGIN:VEVENT
UID:c1d4f17c82f9a752c55f5160af20c133
CATEGORIES:Gemeindehaus kleiner Saal
CREATED:20260213T085959
SUMMARY:Priv
DESCRIPTION:
DTSTAMP:20260426T005128
DTSTART:20260222T070000
DTEND:20260222T160000
SEQUENCE:0
TRANSP:OPAQUE
END:VEVENT
END:VCALENDAR