BEGIN:VCALENDAR
VERSION:2.0
PRODID:-//jEvents 2.0 for Joomla//EN
CALSCALE:GREGORIAN
METHOD:PUBLISH
BEGIN:VEVENT
UID:2ec470a1f94f6d3a19f3164c910da94d
CATEGORIES:Gemeindehaus kleiner Saal
CREATED:20260208T195312
SUMMARY:Priv Feier
DESCRIPTION:
DTSTAMP:20260426T005955
DTSTART:20260424T060000
DTEND:20260425T150000
SEQUENCE:0
TRANSP:OPAQUE
END:VEVENT
END:VCALENDAR