BEGIN:VCALENDAR
VERSION:2.0
PRODID:-//jEvents 2.0 for Joomla//EN
CALSCALE:GREGORIAN
METHOD:PUBLISH
BEGIN:VEVENT
UID:4cc7bc04a084ecbf52a4f9eb5d1acfce
CATEGORIES:Schutzhütte
CREATED:20260119T213007
SUMMARY:Priv. Feier
DESCRIPTION:
DTSTAMP:20260426T005950
DTSTART:20260306T070000
DTEND:20260307T160000
SEQUENCE:0
TRANSP:OPAQUE
END:VEVENT
END:VCALENDAR