BEGIN:VCALENDAR
VERSION:2.0
PRODID:-//jEvents 2.0 for Joomla//EN
CALSCALE:GREGORIAN
METHOD:PUBLISH
BEGIN:VEVENT
UID:ee43f4bacf5f4a1e1ea0456961f4a371
CATEGORIES:Schutzhütte
CREATED:20260106T212454
SUMMARY:Private Feier
DESCRIPTION:
DTSTAMP:20260425T232919
DTSTART:20260117T070000
DTEND:20260117T160000
SEQUENCE:0
TRANSP:OPAQUE
END:VEVENT
END:VCALENDAR