BEGIN:VCALENDAR
VERSION:2.0
PRODID:-//jEvents 2.0 for Joomla//EN
CALSCALE:GREGORIAN
METHOD:PUBLISH
BEGIN:VEVENT
UID:0fd49db2953b051a646815db4bf895c6
CATEGORIES:Gemeindehaus kleiner Saal
CREATED:20260104T150544
SUMMARY:BwDLZ
DESCRIPTION:
DTSTAMP:20260426T043907
DTSTART:20260203T070000
DTEND:20260203T160000
SEQUENCE:0
TRANSP:OPAQUE
END:VEVENT
END:VCALENDAR