BEGIN:VCALENDAR
VERSION:2.0
PRODID:-//jEvents 2.0 for Joomla//EN
CALSCALE:GREGORIAN
METHOD:PUBLISH
BEGIN:VEVENT
UID:eb2b7e779b83ffefab354b5393557d1c
CATEGORIES:Gemeindehaus großer Saal
CREATED:20260104T145210
SUMMARY:Gesangverein
DESCRIPTION:
DTSTAMP:20260425T204151
DTSTART:20260117T070000
DTEND:20260117T160000
SEQUENCE:0
TRANSP:OPAQUE
END:VEVENT
END:VCALENDAR