BEGIN:VCALENDAR
VERSION:2.0
PRODID:-//jEvents 2.0 for Joomla//EN
CALSCALE:GREGORIAN
METHOD:PUBLISH
BEGIN:VEVENT
UID:c0130a8c7d853f5d5bac8075cf2ae078
CATEGORIES:Gemeindehaus komplett
CREATED:20260104T143358
SUMMARY:Kirmes
DESCRIPTION:
DTSTAMP:20260426T010000
DTSTART:20260501T060000
DTEND:20260504T150000
SEQUENCE:0
TRANSP:OPAQUE
END:VEVENT
END:VCALENDAR