BEGIN:VCALENDAR
VERSION:2.0
PRODID:-//jEvents 2.0 for Joomla//EN
CALSCALE:GREGORIAN
METHOD:PUBLISH
BEGIN:VEVENT
UID:feaed4be50d71127d025826d036c9051
CATEGORIES:Gemeindehaus komplett
CREATED:20260104T142525
SUMMARY:Sicherheitskampagne
DESCRIPTION:
DTSTAMP:20260425T192032
DTSTART:20260326T070000
DTEND:20260326T160000
SEQUENCE:0
TRANSP:OPAQUE
END:VEVENT
END:VCALENDAR