BEGIN:VCALENDAR
VERSION:2.0
PRODID:-//jEvents 2.0 for Joomla//EN
CALSCALE:GREGORIAN
METHOD:PUBLISH
BEGIN:VEVENT
UID:a48bf4dc33f28ca232a802c44bc14dd2
CATEGORIES:Gemeindehaus komplett
CREATED:20260104T142256
SUMMARY:Närrisches Frühstück
DESCRIPTION:<p>Frauengemeinschaft</p>
DTSTAMP:20260425T212037
DTSTART;VALUE=DATE:20260212
DTEND;VALUE=DATE:20260213
SEQUENCE:0
TRANSP:OPAQUE
END:VEVENT
END:VCALENDAR