BEGIN:VCALENDAR
VERSION:2.0
PRODID:-//jEvents 2.0 for Joomla//EN
CALSCALE:GREGORIAN
METHOD:PUBLISH
BEGIN:VEVENT
UID:1c389c66b051c0f70a8605336e242ae2
CATEGORIES:Gemeindehaus großer Saal
CREATED:20260104T141239
SUMMARY:Tanztrainung
DESCRIPTION:
DTSTAMP:20260426T005946
DTSTART:20260110T100000
DTEND:20260110T130000
SEQUENCE:0
TRANSP:OPAQUE
END:VEVENT
END:VCALENDAR