BEGIN:VCALENDAR
VERSION:2.0
PRODID:-//jEvents 2.0 for Joomla//EN
CALSCALE:GREGORIAN
METHOD:PUBLISH
BEGIN:VEVENT
UID:9a4e7dab184ec6531bd641a88d70c110
CATEGORIES:Gemeindehaus kleiner Saal
CREATED:20260102T215839
SUMMARY:Pfadfinder
DESCRIPTION:
DTSTAMP:20260426T010629
DTSTART:20260313T070000
DTEND:20260312T230000
SEQUENCE:0
TRANSP:OPAQUE
END:VEVENT
END:VCALENDAR