BEGIN:VCALENDAR
VERSION:2.0
PRODID:-//jEvents 2.0 for Joomla//EN
CALSCALE:GREGORIAN
METHOD:PUBLISH
BEGIN:VEVENT
UID:0c9de6edd18d6b65a976203e7ee46564
CATEGORIES:Gemeindehaus kleiner Saal
CREATED:20260101T104339
SUMMARY:Interne Feier
DESCRIPTION:
DTSTAMP:20260426T033533
DTSTART:20260110T070000
DTEND:20260110T160000
SEQUENCE:0
TRANSP:OPAQUE
END:VEVENT
END:VCALENDAR