BEGIN:VCALENDAR
VERSION:2.0
PRODID:-//jEvents 2.0 for Joomla//EN
CALSCALE:GREGORIAN
METHOD:PUBLISH
BEGIN:VEVENT
UID:a2e20b5a3329c99845ae674140dc16c0
CATEGORIES:Gemeindehaus großer Saal
CREATED:20251220T205857
SUMMARY:RTF 
DESCRIPTION:
DTSTAMP:20260425T221056
DTSTART:20260614T060000
DTEND:20260614T170000
SEQUENCE:0
TRANSP:OPAQUE
END:VEVENT
END:VCALENDAR