BEGIN:VCALENDAR
VERSION:2.0
PRODID:-//jEvents 2.0 for Joomla//EN
CALSCALE:GREGORIAN
METHOD:PUBLISH
BEGIN:VEVENT
UID:40e2a9d94fc6f821c588e3272465334a
CATEGORIES:Gemeindehaus kleiner Saal
CREATED:20251220T115751
SUMMARY:Aktive Kirche
DESCRIPTION:
DTSTAMP:20260425T190132
DTSTART:20260115T140000
DTEND:20260115T170000
SEQUENCE:0
TRANSP:OPAQUE
END:VEVENT
END:VCALENDAR