BEGIN:VCALENDAR
VERSION:2.0
PRODID:-//jEvents 2.0 for Joomla//EN
CALSCALE:GREGORIAN
METHOD:PUBLISH
BEGIN:VEVENT
UID:697eaddb7b659ac3c65b25a891ad9c82
CATEGORIES:Schutzhütte
CREATED:20250728T211606
SUMMARY:Priv Feier
DESCRIPTION:
DTSTAMP:20260425T181859
DTSTART:20260417T060000
DTEND:20260419T150000
SEQUENCE:0
TRANSP:OPAQUE
END:VEVENT
END:VCALENDAR