BEGIN:VCALENDAR
VERSION:2.0
PRODID:-//jEvents 2.0 for Joomla//EN
CALSCALE:GREGORIAN
METHOD:PUBLISH
BEGIN:VEVENT
UID:3069a8628bc613a66167236cfb1c4b0c
CATEGORIES:Schutzhütte
CREATED:20250629T201215
SUMMARY:Priv Feier
DESCRIPTION:
DTSTAMP:20260425T221051
DTSTART:20260508T060000
DTEND:20260510T150000
SEQUENCE:0
TRANSP:OPAQUE
END:VEVENT
END:VCALENDAR