BEGIN:VCALENDAR
VERSION:2.0
PRODID:-//jEvents 2.0 for Joomla//EN
CALSCALE:GREGORIAN
METHOD:PUBLISH
BEGIN:VEVENT
UID:2f6d262d42437157762138baf0243e75
CATEGORIES:Gemeindehaus kleiner Saal
CREATED:20250624T221038
SUMMARY:Kommunion
DESCRIPTION:
DTSTAMP:20260425T164446
DTSTART:20260410T060000
DTEND:20260412T150000
SEQUENCE:0
TRANSP:OPAQUE
END:VEVENT
END:VCALENDAR